BEGIN:VCALENDAR
VERSION:2.0
PRODID:-//hacksw/handcal//NONSGML v1.0//EN
BEGIN:VEVENT
UID:zycie-obiektow.zacheta
DTSTAMP:20260716T085836Z
DTSTART:20260716T085836Z
SUMMARY:Życie obiektów
END:VEVENT
END:VCALENDAR