BEGIN:VCALENDAR
VERSION:2.0
PRODID:-//hacksw/handcal//NONSGML v1.0//EN
BEGIN:VEVENT
UID:zielona-interwencja.zacheta
DTSTAMP:20260713T005225Z
DTSTART:20260713T005225Z
SUMMARY:Zielona interwencja. Warsztaty rodzinne towarzyszące wystawie Teresy Murak 
END:VEVENT
END:VCALENDAR