BEGIN:VCALENDAR
VERSION:2.0
PRODID:-//hacksw/handcal//NONSGML v1.0//EN
BEGIN:VEVENT
UID:wyklad.zacheta
DTSTAMP:20260713T235608Z
DTSTART:20260713T235608Z
SUMMARY:„Społeczeństwo aniołów”: eugenika a kultura amerykańska w latach 1900–1940
END:VEVENT
END:VCALENDAR