BEGIN:VCALENDAR
VERSION:2.0
PRODID:-//hacksw/handcal//NONSGML v1.0//EN
BEGIN:VEVENT
UID:wojciech-gilewicz.zacheta
DTSTAMP:20260713T004655Z
DTSTART:20260713T004655Z
SUMMARY:Wojciech Gilewicz.
END:VEVENT
END:VCALENDAR