BEGIN:VCALENDAR
VERSION:2.0
PRODID:-//hacksw/handcal//NONSGML v1.0//EN
BEGIN:VEVENT
UID:wielka-podroz.zacheta
DTSTAMP:20260713T000712Z
DTSTART:20260713T000712Z
SUMMARY:Wielka podróż.
END:VEVENT
END:VCALENDAR