BEGIN:VCALENDAR
VERSION:2.0
PRODID:-//hacksw/handcal//NONSGML v1.0//EN
BEGIN:VEVENT
UID:w-ciemnosci.zacheta
DTSTAMP:20260715T064145Z
DTSTART:20260715T064145Z
SUMMARY:W ciemności
END:VEVENT
END:VCALENDAR