BEGIN:VCALENDAR
VERSION:2.0
PRODID:-//hacksw/handcal//NONSGML v1.0//EN
BEGIN:VEVENT
UID:tajemnice-az.zacheta
DTSTAMP:20260713T052528Z
DTSTART:20260713T052528Z
SUMMARY:Tajemnice A–Z
END:VEVENT
END:VCALENDAR