BEGIN:VCALENDAR
VERSION:2.0
PRODID:-//hacksw/handcal//NONSGML v1.0//EN
BEGIN:VEVENT
UID:szycie-emocji.zacheta
DTSTAMP:20260719T064000Z
DTSTART:20260719T064000Z
SUMMARY:Szycie emocji
END:VEVENT
END:VCALENDAR