BEGIN:VCALENDAR
VERSION:2.0
PRODID:-//hacksw/handcal//NONSGML v1.0//EN
BEGIN:VEVENT
UID:spiew-kaluz.zacheta
DTSTAMP:20260716T053136Z
DTSTART:20260716T053136Z
SUMMARY:Michalina Bigaj, Magdalena Lazar. Śpiew kałuż
END:VEVENT
END:VCALENDAR