BEGIN:VCALENDAR
VERSION:2.0
PRODID:-//hacksw/handcal//NONSGML v1.0//EN
BEGIN:VEVENT
UID:spacer-fenomenologiczny.zacheta
DTSTAMP:20260713T050717Z
DTSTART:20260713T050717Z
SUMMARY:Spacer fenomenologiczny
END:VEVENT
END:VCALENDAR