BEGIN:VCALENDAR
VERSION:2.0
PRODID:-//hacksw/handcal//NONSGML v1.0//EN
BEGIN:VEVENT
UID:sokol-maltanski.zacheta
DTSTAMP:20260715T064639Z
DTSTART:20260715T064639Z
SUMMARY:„Sokół maltański”
END:VEVENT
END:VCALENDAR