BEGIN:VCALENDAR
VERSION:2.0
PRODID:-//hacksw/handcal//NONSGML v1.0//EN
BEGIN:VEVENT
UID:skrawki-malarskie.zacheta
DTSTAMP:20260713T031550Z
DTSTART:20260713T031550Z
SUMMARY:Skrawki malarskie
END:VEVENT
END:VCALENDAR