BEGIN:VCALENDAR
VERSION:2.0
PRODID:-//hacksw/handcal//NONSGML v1.0//EN
BEGIN:VEVENT
UID:skradziony-balon.zacheta
DTSTAMP:20260713T000801Z
DTSTART:20260713T000801Z
SUMMARY:Skradziony balon: pokaz filmu towarzyszący wystawie „Podróżnicy”
END:VEVENT
END:VCALENDAR