BEGIN:VCALENDAR
VERSION:2.0
PRODID:-//hacksw/handcal//NONSGML v1.0//EN
BEGIN:VEVENT
UID:shaft.zacheta
DTSTAMP:20260715T015827Z
DTSTART:20260715T015827Z
SUMMARY:Shaft & Shatft’s Big Score!
END:VEVENT
END:VCALENDAR