BEGIN:VCALENDAR
VERSION:2.0
PRODID:-//hacksw/handcal//NONSGML v1.0//EN
BEGIN:VEVENT
UID:sajat-nowa.zacheta
DTSTAMP:20260716T091758Z
DTSTART:20260716T091758Z
SUMMARY:Sajat-Nowa
END:VEVENT
END:VCALENDAR