BEGIN:VCALENDAR
VERSION:2.0
PRODID:-//hacksw/handcal//NONSGML v1.0//EN
BEGIN:VEVENT
UID:rosliny-sliny.zacheta
DTSTAMP:20260716T055754Z
DTSTART:20260716T055754Z
SUMMARY:Rośliny, śliny
END:VEVENT
END:VCALENDAR