BEGIN:VCALENDAR
VERSION:2.0
PRODID:-//hacksw/handcal//NONSGML v1.0//EN
BEGIN:VEVENT
UID:przez-dotyk.zacheta
DTSTAMP:20260712T195005Z
DTSTART:20260712T195005Z
SUMMARY:Przez dotyk
END:VEVENT
END:VCALENDAR