BEGIN:VCALENDAR
VERSION:2.0
PRODID:-//hacksw/handcal//NONSGML v1.0//EN
BEGIN:VEVENT
UID:przestrzenie.zacheta
DTSTAMP:20260715T094355Z
DTSTART:20260715T094355Z
SUMMARY:Przestrzenie
END:VEVENT
END:VCALENDAR