BEGIN:VCALENDAR
VERSION:2.0
PRODID:-//hacksw/handcal//NONSGML v1.0//EN
BEGIN:VEVENT
UID:projektowanie-danymi.zacheta
DTSTAMP:20260716T083951Z
DTSTART:20260716T083951Z
SUMMARY:Projektowanie danymi
END:VEVENT
END:VCALENDAR