BEGIN:VCALENDAR
VERSION:2.0
PRODID:-//hacksw/handcal//NONSGML v1.0//EN
BEGIN:VEVENT
UID:portret-lustrzany.zacheta
DTSTAMP:20260715T015138Z
DTSTART:20260715T015138Z
SUMMARY:Portret lustrzany
END:VEVENT
END:VCALENDAR