BEGIN:VCALENDAR
VERSION:2.0
PRODID:-//hacksw/handcal//NONSGML v1.0//EN
BEGIN:VEVENT
UID:niedzielne-oprowadzania.zacheta
DTSTAMP:20260716T062613Z
DTSTART:20260716T062613Z
SUMMARY:Niedzielne oprowadzania
END:VEVENT
END:VCALENDAR