BEGIN:VCALENDAR
VERSION:2.0
PRODID:-//hacksw/handcal//NONSGML v1.0//EN
BEGIN:VEVENT
UID:mikropespektywy.zacheta
DTSTAMP:20260715T094024Z
DTSTART:20260715T094024Z
SUMMARY:Mikroperspektywy
END:VEVENT
END:VCALENDAR