BEGIN:VCALENDAR
VERSION:2.0
PRODID:-//hacksw/handcal//NONSGML v1.0//EN
BEGIN:VEVENT
UID:maria-hassabi.zacheta
DTSTAMP:20260716T022132Z
DTSTART:20260716T022132Z
SUMMARY:Maria Hassabi 
END:VEVENT
END:VCALENDAR