BEGIN:VCALENDAR
VERSION:2.0
PRODID:-//hacksw/handcal//NONSGML v1.0//EN
BEGIN:VEVENT
UID:mapa-pamieci.zacheta
DTSTAMP:20260713T045207Z
DTSTART:20260713T045207Z
SUMMARY:Mapa pamięci
END:VEVENT
END:VCALENDAR