BEGIN:VCALENDAR
VERSION:2.0
PRODID:-//hacksw/handcal//NONSGML v1.0//EN
BEGIN:VEVENT
UID:lisbon-story.zacheta
DTSTAMP:20260712T195014Z
DTSTART:20260712T195014Z
SUMMARY:Lisbon Story
END:VEVENT
END:VCALENDAR