BEGIN:VCALENDAR
VERSION:2.0
PRODID:-//hacksw/handcal//NONSGML v1.0//EN
BEGIN:VEVENT
UID:konopielka.zacheta
DTSTAMP:20260715T003712Z
DTSTART:20260715T003712Z
SUMMARY:Konopielka
END:VEVENT
END:VCALENDAR