BEGIN:VCALENDAR
VERSION:2.0
PRODID:-//hacksw/handcal//NONSGML v1.0//EN
BEGIN:VEVENT
UID:joga-7.zacheta
DTSTAMP:20260715T011114Z
DTSTART:20260715T011114Z
SUMMARY:Joga. Zajęcia w ramach wystawy „Lepsza ja”
END:VEVENT
END:VCALENDAR