BEGIN:VCALENDAR
VERSION:2.0
PRODID:-//hacksw/handcal//NONSGML v1.0//EN
BEGIN:VEVENT
UID:joga-12.zacheta
DTSTAMP:20260715T013813Z
DTSTART:20260715T013813Z
SUMMARY:Joga. Zajęcia w ramach wystawy „Lepsza ja”
END:VEVENT
END:VCALENDAR