BEGIN:VCALENDAR
VERSION:2.0
PRODID:-//hacksw/handcal//NONSGML v1.0//EN
BEGIN:VEVENT
UID:inny-autoportret.zacheta
DTSTAMP:20260713T050715Z
DTSTART:20260713T050715Z
SUMMARY:Inny autoportret
END:VEVENT
END:VCALENDAR