BEGIN:VCALENDAR
VERSION:2.0
PRODID:-//hacksw/handcal//NONSGML v1.0//EN
BEGIN:VEVENT
UID:ghost-rider.zacheta
DTSTAMP:20260717T092648Z
DTSTART:20260717T092648Z
SUMMARY:Ghost Rider
END:VEVENT
END:VCALENDAR