BEGIN:VCALENDAR
VERSION:2.0
PRODID:-//hacksw/handcal//NONSGML v1.0//EN
BEGIN:VEVENT
UID:etyka-fotografa.zacheta
DTSTAMP:20260715T011331Z
DTSTART:20260715T011331Z
SUMMARY:Etyka fotografa
END:VEVENT
END:VCALENDAR