BEGIN:VCALENDAR
VERSION:2.0
PRODID:-//hacksw/handcal//NONSGML v1.0//EN
BEGIN:VEVENT
UID:dzikie-twory.zacheta
DTSTAMP:20260719T090932Z
DTSTART:20260719T090932Z
SUMMARY:Dzikie twory
END:VEVENT
END:VCALENDAR