BEGIN:VCALENDAR
VERSION:2.0
PRODID:-//hacksw/handcal//NONSGML v1.0//EN
BEGIN:VEVENT
UID:delighting.zacheta
DTSTAMP:20260716T080645Z
DTSTART:20260716T080645Z
SUMMARY:delighting
END:VEVENT
END:VCALENDAR