BEGIN:VCALENDAR
VERSION:2.0
PRODID:-//hacksw/handcal//NONSGML v1.0//EN
BEGIN:VEVENT
UID:blizej-obiektow.zacheta
DTSTAMP:20260715T070300Z
DTSTART:20260715T070300Z
SUMMARY:Bliżej obiektów
END:VEVENT
END:VCALENDAR