BEGIN:VCALENDAR
VERSION:2.0
PRODID:-//hacksw/handcal//NONSGML v1.0//EN
BEGIN:VEVENT
UID:atlas-gestow.zacheta
DTSTAMP:20260715T081934Z
DTSTART:20260715T081934Z
SUMMARY:Atlas gestów
END:VEVENT
END:VCALENDAR