BEGIN:VCALENDAR
VERSION:2.0
PRODID:-//hacksw/handcal//NONSGML v1.0//EN
BEGIN:VEVENT
UID:6.zacheta
DTSTAMP:20260715T063715Z
DTSTART:20260715T063715Z
SUMMARY:Экскурсия по выставке «Мариола Пшиемска. Консумация, конструкция и меланхолия» на русском языке
END:VEVENT
END:VCALENDAR