BEGIN:VCALENDAR
VERSION:2.0
PRODID:-//hacksw/handcal//NONSGML v1.0//EN
BEGIN:VEVENT
UID:51-3.zacheta
DTSTAMP:20260716T092358Z
DTSTART:20260716T092358Z
SUMMARY:ЗНАЙОМИМОСЯ З ЗАХЕНТОЮ!
END:VEVENT
END:VCALENDAR