BEGIN:VCALENDAR
VERSION:2.0
PRODID:-//hacksw/handcal//NONSGML v1.0//EN
BEGIN:VEVENT
UID:5.zacheta
DTSTAMP:20260715T063301Z
DTSTART:20260715T063301Z
SUMMARY:Екскурсія виставкою «Маріола Пшиємська. Консупція, конструкція і меланхолія» українською мовою
END:VEVENT
END:VCALENDAR