BEGIN:VCALENDAR
VERSION:2.0
PRODID:-//hacksw/handcal//NONSGML v1.0//EN
BEGIN:VEVENT
UID:4-5.zacheta
DTSTAMP:20260715T063934Z
DTSTART:20260715T063934Z
SUMMARY:Spacer dostępny na Cmentarzu Żydowskim
END:VEVENT
END:VCALENDAR