BEGIN:VCALENDAR
VERSION:2.0
PRODID:-//hacksw/handcal//NONSGML v1.0//EN
BEGIN:VEVENT
UID:4-15.zacheta
DTSTAMP:20260715T064242Z
DTSTART:20260715T064242Z
SUMMARY:Экскурсия по выставке «Неловкий вечер» на русском языке
END:VEVENT
END:VCALENDAR