BEGIN:VCALENDAR
VERSION:2.0
PRODID:-//hacksw/handcal//NONSGML v1.0//EN
BEGIN:VEVENT
UID:4-13.zacheta
DTSTAMP:20260716T060645Z
DTSTART:20260716T060645Z
SUMMARY:Niepokój przychodzi o zmierzchu
END:VEVENT
END:VCALENDAR